BEGIN:VCALENDAR
VERSION:2.0
PRODID: -//CMS 5.0 //NONSGML //DE
BEGIN:VEVENT
SUMMARY:Musik für Kleinkinder von 1,5 bis zu 3 Jahren
DESCRIPTION:Mach Musik mit deinem Kind (1,5 bis 3 Jahre)! Spielerisch en
 tdeckt ihr Musik und Tanz: Singen, Sprechen, Tanzen, Instrumente, Klang
 geschichten und mehr. Weckt die Freude an Musik und stärkt Kreativitä
  …\n\n\n\nhttps://app1.edoobox.com/de/NAK-NO/MUSIK/Online-Kurs.ed.335
 e3131a040_3996384745.Musik%20f%C3%BCr%20Kleinkinder%20von%2015%20bis%20
 zu%203%20Jahren\n\n\n\nhttps://kirchenmusik.nak-nordost.de/db/559169
UID:559169@programm.poporatorium.de
LOCATION:
CATEGORIES:Fortbildung Musik,Fortbildung
X-ORGANIZER:
STATUS:CONFIRMED
CLASS:PUBLIC
DTSTART:20260427T124500Z
DTEND:20260427T124500Z
DTSTAMP:20260420T124751Z
CREATED:20251128T001020Z
LAST-MODIFIED:20260224T001014Z
BEGIN:VALARM
UID:249CE5FE-3CB7-11F1-A837-B2465429324C
TRIGGER:-PT60M
ACTION:DISPLAY
DESCRIPTION:SUMMARY:Musik für Kleinkinder von 1,5 bis zu 3 Jahren
END:VALARM
END:VEVENT
END:VCALENDAR
