BEGIN:VCALENDAR
VERSION:2.0
PRODID: -//CMS 5.0 //NONSGML //DE
BEGIN:VEVENT
SUMMARY:Rise & Shine
DESCRIPTION:Wie auch in den letzten Jahren entsteht aus dem Gospel-Works
 hop, diesmal unter dem Motto „Rise & Shine“, ein lebendiges Abschlu
 sskonzert. Der Projektchor bringt eine abwechslungsreiche Mischung aus 
 Worship, Traditional und Modern Gospel auf die Bühne und lässt die mu
 sikalische Arbeit der gemeinsamen Tage hör- und spürbar werden.\n\n\n
 \nhttps://kirchenmusik.nak-nordost.de/db/572331
UID:572331@programm.poporatorium.de
LOCATION:
CATEGORIES:Konzerte, Musik
X-ORGANIZER:
STATUS:CONFIRMED
CLASS:PUBLIC
DTSTART:20260426T140000Z
DTEND:20260426T150000Z
DTSTAMP:20260420T125252Z
CREATED:20260105T192409Z
LAST-MODIFIED:20260105T194150Z
BEGIN:VALARM
UID:D7EED306-3CB7-11F1-B093-60405429324C
TRIGGER:-PT60M
ACTION:DISPLAY
DESCRIPTION:SUMMARY:Rise & Shine
END:VALARM
END:VEVENT
END:VCALENDAR
